BEGIN:VCALENDAR
VERSION:2.0
PRODID:-//Library Market//iCal Export//EN
BEGIN:VEVENT
SUMMARY:Nature’s Stories: An Accordion-Fold Collage Workshop
UID:48998
DTSTAMP:20260424T212000Z
DTSTART:20260425T190000Z
DTEND:20260425T210000Z
LOCATION:400 Eau Claire Street, Eau Claire, WI 54701, United States
ROOM: RCU Dabble Box Makerspace
DESCRIPTION:Intended for adults 19+Nature offers metaphors of growth and t
 ransformation as we travel through the journey of our lives. Perhaps your 
 dream for the future is like an acorn. Maybe you’ve witnessed a child bl
 ossom like a beautiful sunflower. Or the winding currents of the river tau
 ght you a lesson about accepting change. In this two-hour workshop, Hannah
  Rae will explain how to construct accordion-fold books. Then participants
  will be invited to consider the question, “What guidance does nature of
 fer?” as they construct their stories through collage.Hannah Rae is a mu
 ltimedia artist and teaching artist from the Midwest. Their work is inspir
 ed by mythology, nature, identity, and storytelling. Their process often i
 nvolves transforming found objects into something magical. Hannah currentl
 y lives in Eau Claire, WI. Registration is requested.
URL:https://lephillips.librarycalendar.com/CollageWorkshop
END:VEVENT
END:VCALENDAR
