BEGIN:VCALENDAR
VERSION:2.0
PRODID:-//Library Market//iCal Export//EN
BEGIN:VEVENT
SUMMARY:How to Build Affordable: A Conversation with Developers
UID:49183
DTSTAMP:20260425T212800Z
DTSTART:20260514T220000Z
DTEND:20260515T000000Z
LOCATION:L.E. Phillips Memorial Public Library, 400 Eau Claire Street, Eau
  Claire, WI 54701, United States
ROOM: Riverview Room (Room 306)
DESCRIPTION:Local housing developers and community leaders will discuss th
 e challenges, opportunities, and real-world strategies behind building and
  sustaining affordable housing in the Chippewa Valley. Panelists include:C
 hristina Thrun | Executive Officer | Chippewa Valley Home Builders Associa
 tionCody Filipczak | Co-Owner | C&amp;M Home Builders and Real EstateJusti
 n Held | Founder | Rocket ConstructionTim Mather | Executive Director | We
 st CAPJames Rolbiecki | Landlord and property managerThe discussion will b
 e moderated by Julian Emerson, City of Altoona Grants and Housing Program 
 Manager.Co-sponsored by: JONAH Affordable Housing Task Force; Chippewa Val
 ley Home Builders Association 
URL:https://lephillips.librarycalendar.com/event/how-build-affordable-conv
 ersation-developers-49183
END:VEVENT
END:VCALENDAR
